Package: SPIA Version: 2.54.0 Command: /Library/Frameworks/R.framework/Resources/bin/R CMD build --keep-empty-dirs --no-resave-data SPIA StartedAt: 2024-04-17 03:17:28 -0400 (Wed, 17 Apr 2024) EndedAt: 2024-04-17 03:26:19 -0400 (Wed, 17 Apr 2024) EllapsedTime: 531.0 seconds RetCode: 0 Status: OK PackageFile: SPIA_2.54.0.tar.gz PackageFileSize: 2.549 MiB