Package: SPIA Version: 2.54.0 Command: /Library/Frameworks/R.framework/Resources/bin/R CMD check --install=check:SPIA.install-out.txt --library=/Library/Frameworks/R.framework/Resources/library --no-vignettes --timings SPIA_2.54.0.tar.gz StartedAt: 2024-04-18 04:58:45 -0400 (Thu, 18 Apr 2024) EndedAt: 2024-04-18 05:07:31 -0400 (Thu, 18 Apr 2024) EllapsedTime: 525.9 seconds RetCode: 0 Status: OK CheckDir: SPIA.Rcheck Warnings: 0