Package: SQLDataFrame Version: 1.16.1 Command: /Library/Frameworks/R.framework/Resources/bin/R CMD INSTALL SQLDataFrame StartedAt: 2024-04-16 10:35:18 -0400 (Tue, 16 Apr 2024) EndedAt: 2024-04-16 10:35:31 -0400 (Tue, 16 Apr 2024) EllapsedTime: 13.1 seconds RetCode: 0 Status: OK