Package: STRINGdb Version: 2.14.3 Command: /Library/Frameworks/R.framework/Resources/bin/R CMD check --install=check:STRINGdb.install-out.txt --library=/Library/Frameworks/R.framework/Resources/library --no-vignettes --timings STRINGdb_2.14.3.tar.gz StartedAt: 2024-04-18 05:33:46 -0400 (Thu, 18 Apr 2024) EndedAt: 2024-04-18 05:39:37 -0400 (Thu, 18 Apr 2024) EllapsedTime: 351.4 seconds RetCode: 0 Status: OK CheckDir: STRINGdb.Rcheck Warnings: 0