Package: SWATH2stats Version: 1.32.1 Command: /Library/Frameworks/R.framework/Resources/bin/R CMD build --keep-empty-dirs --no-resave-data SWATH2stats StartedAt: 2024-04-17 03:47:58 -0400 (Wed, 17 Apr 2024) EndedAt: 2024-04-17 03:49:02 -0400 (Wed, 17 Apr 2024) EllapsedTime: 63.5 seconds RetCode: 0 Status: OK PackageFile: SWATH2stats_1.32.1.tar.gz PackageFileSize: 3.032 MiB