Package: SamSPECTRAL
Version: 1.56.0
Command: /Library/Frameworks/R.framework/Resources/bin/R CMD check --install=check:SamSPECTRAL.install-out.txt --library=/Library/Frameworks/R.framework/Resources/library --no-vignettes --timings SamSPECTRAL_1.56.0.tar.gz
StartedAt: 2024-04-18 02:24:32 -0400 (Thu, 18 Apr 2024)
EndedAt: 2024-04-18 02:25:04 -0400 (Thu, 18 Apr 2024)
EllapsedTime: 31.5 seconds
RetCode: 0
Status: WARNINGS
CheckDir: SamSPECTRAL.Rcheck
Warnings: 1