Package: SimBu Version: 1.4.3 Command: /Library/Frameworks/R.framework/Resources/bin/R CMD build --keep-empty-dirs --no-resave-data SimBu StartedAt: 2024-04-17 02:48:35 -0400 (Wed, 17 Apr 2024) EndedAt: 2024-04-17 02:49:29 -0400 (Wed, 17 Apr 2024) EllapsedTime: 53.9 seconds RetCode: 0 Status: OK PackageFile: SimBu_1.4.3.tar.gz PackageFileSize: 221.4 KiB