Package: SpatialOmicsOverlay Version: 1.2.1 Command: /Library/Frameworks/R.framework/Resources/bin/R CMD build --keep-empty-dirs --no-resave-data SpatialOmicsOverlay StartedAt: 2024-04-17 03:14:56 -0400 (Wed, 17 Apr 2024) EndedAt: 2024-04-17 03:23:32 -0400 (Wed, 17 Apr 2024) EllapsedTime: 516.2 seconds RetCode: 0 Status: OK PackageFile: SpatialOmicsOverlay_1.2.1.tar.gz PackageFileSize: 4.496 MiB