Package: SpatialOmicsOverlay Version: 1.2.1 Command: /Library/Frameworks/R.framework/Resources/bin/R CMD check --install=check:SpatialOmicsOverlay.install-out.txt --library=/Library/Frameworks/R.framework/Resources/library --no-vignettes --timings SpatialOmicsOverlay_1.2.1.tar.gz StartedAt: 2024-04-18 04:47:46 -0400 (Thu, 18 Apr 2024) EndedAt: 2024-04-18 04:59:18 -0400 (Thu, 18 Apr 2024) EllapsedTime: 691.4 seconds RetCode: 0 Status: OK CheckDir: SpatialOmicsOverlay.Rcheck Warnings: 0