Package: SpeCond Version: 1.56.0 Command: /Library/Frameworks/R.framework/Resources/bin/R CMD INSTALL SpeCond StartedAt: 2024-04-16 10:31:58 -0400 (Tue, 16 Apr 2024) EndedAt: 2024-04-16 10:32:07 -0400 (Tue, 16 Apr 2024) EllapsedTime: 8.9 seconds RetCode: 0 Status: OK