Package: Spectra Version: 1.12.0 Command: /Library/Frameworks/R.framework/Resources/bin/R CMD INSTALL Spectra StartedAt: 2024-04-16 10:42:17 -0400 (Tue, 16 Apr 2024) EndedAt: 2024-04-16 10:42:33 -0400 (Tue, 16 Apr 2024) EllapsedTime: 16.4 seconds RetCode: 0 Status: OK