Package: SplicingGraphs
Version: 1.42.0
Command: /Library/Frameworks/R.framework/Resources/bin/R CMD INSTALL SplicingGraphs
StartedAt: 2024-04-16 11:19:05 -0400 (Tue, 16 Apr 2024)
EndedAt: 2024-04-16 11:19:59 -0400 (Tue, 16 Apr 2024)
EllapsedTime: 53.9 seconds
RetCode: 0
Status: OK