Package: TCseq Version: 1.26.0 Maintainer: Mengjun Wu MaintainerEmail: minervajunjun at gmail.com git_url: https://git.bioconductor.org/packages/TCseq git_branch: RELEASE_3_18 git_last_commit: 9f77324 git_last_commit_date: 2023-10-24 10:54:52 -0400 (Tue, 24 Oct 2023)