Package: TEQC Version: 4.24.0 Command: /Library/Frameworks/R.framework/Resources/bin/R CMD INSTALL TEQC StartedAt: 2024-04-16 10:50:18 -0400 (Tue, 16 Apr 2024) EndedAt: 2024-04-16 10:50:35 -0400 (Tue, 16 Apr 2024) EllapsedTime: 17.1 seconds RetCode: 0 Status: OK