Package: TFutils
Version: 1.22.0
Maintainer: Vincent Carey
MaintainerEmail: stvjc at channing.harvard.edu
git_url: https://git.bioconductor.org/packages/TFutils
git_branch: RELEASE_3_18
git_last_commit: 29d5e5c
git_last_commit_date: 2023-10-24 11:04:27 -0400 (Tue, 24 Oct 2023)