Package: TPP2D Version: 1.18.0 Command: /Library/Frameworks/R.framework/Resources/bin/R CMD build --keep-empty-dirs --no-resave-data TPP2D StartedAt: 2024-04-17 04:09:38 -0400 (Wed, 17 Apr 2024) EndedAt: 2024-04-17 04:10:14 -0400 (Wed, 17 Apr 2024) EllapsedTime: 36.5 seconds RetCode: 0 Status: OK PackageFile: TPP2D_1.18.0.tar.gz PackageFileSize: 2.297 MiB