Package: TSCAN Version: 1.40.1 Command: rm -rf TSCAN.buildbin-libdir && mkdir TSCAN.buildbin-libdir && /Users/biocbuild/BBS/utils/build-universal.sh TSCAN_1.40.1.tar.gz /Library/Frameworks/R.framework/Resources/bin/R TSCAN.buildbin-libdir StartedAt: 2024-04-15 10:51:46 -0400 (Mon, 15 Apr 2024) EndedAt: 2024-04-15 10:52:27 -0400 (Mon, 15 Apr 2024) EllapsedTime: 41.3 seconds RetCode: 0 Status: OK PackageFile: TSCAN_1.40.1.tgz PackageFileSize: 2.757 MiB