Package: TSCAN Version: 1.40.1 Command: /Library/Frameworks/R.framework/Resources/bin/R CMD INSTALL TSCAN StartedAt: 2024-04-16 11:29:42 -0400 (Tue, 16 Apr 2024) EndedAt: 2024-04-16 11:30:16 -0400 (Tue, 16 Apr 2024) EllapsedTime: 33.7 seconds RetCode: 0 Status: OK