Package: TargetSearch Version: 2.4.2 Command: /Library/Frameworks/R.framework/Resources/bin/R CMD build --keep-empty-dirs --no-resave-data TargetSearch StartedAt: 2024-04-17 03:54:51 -0400 (Wed, 17 Apr 2024) EndedAt: 2024-04-17 03:55:35 -0400 (Wed, 17 Apr 2024) EllapsedTime: 44.2 seconds RetCode: 0 Status: OK PackageFile: TargetSearch_2.4.2.tar.gz PackageFileSize: 709.6 KiB