Package: TrajectoryGeometry Version: 1.10.1 Command: rm -rf TrajectoryGeometry.buildbin-libdir && mkdir TrajectoryGeometry.buildbin-libdir && /Users/biocbuild/BBS/utils/build-universal.sh TrajectoryGeometry_1.10.1.tar.gz /Library/Frameworks/R.framework/Resources/bin/R TrajectoryGeometry.buildbin-libdir StartedAt: 2024-04-15 10:49:06 -0400 (Mon, 15 Apr 2024) EndedAt: 2024-04-15 10:49:16 -0400 (Mon, 15 Apr 2024) EllapsedTime: 9.2 seconds RetCode: 0 Status: OK PackageFile: TrajectoryGeometry_1.10.1.tgz PackageFileSize: 1.363 MiB