Package: TrajectoryGeometry Version: 1.10.1 Command: /Library/Frameworks/R.framework/Resources/bin/R CMD build --keep-empty-dirs --no-resave-data TrajectoryGeometry StartedAt: 2024-04-17 04:10:23 -0400 (Wed, 17 Apr 2024) EndedAt: 2024-04-17 04:15:07 -0400 (Wed, 17 Apr 2024) EllapsedTime: 283.5 seconds RetCode: 0 Status: OK PackageFile: TrajectoryGeometry_1.10.1.tar.gz PackageFileSize: 1.894 MiB