Package: TrajectoryGeometry Version: 1.10.1 Command: /Library/Frameworks/R.framework/Resources/bin/R CMD check --install=check:TrajectoryGeometry.install-out.txt --library=/Library/Frameworks/R.framework/Resources/library --no-vignettes --timings TrajectoryGeometry_1.10.1.tar.gz StartedAt: 2024-04-18 06:35:23 -0400 (Thu, 18 Apr 2024) EndedAt: 2024-04-18 06:36:27 -0400 (Thu, 18 Apr 2024) EllapsedTime: 63.3 seconds RetCode: 0 Status: OK CheckDir: TrajectoryGeometry.Rcheck Warnings: 0