Package: TrajectoryGeometry Version: 1.10.1 Command: /Library/Frameworks/R.framework/Resources/bin/R CMD INSTALL TrajectoryGeometry StartedAt: 2024-04-16 11:25:25 -0400 (Tue, 16 Apr 2024) EndedAt: 2024-04-16 11:25:31 -0400 (Tue, 16 Apr 2024) EllapsedTime: 6.0 seconds RetCode: 0 Status: OK