Package: Trendy Version: 1.24.1 Command: rm -rf Trendy.buildbin-libdir && mkdir Trendy.buildbin-libdir && /Users/biocbuild/BBS/utils/build-universal.sh Trendy_1.24.1.tar.gz /Library/Frameworks/R.framework/Resources/bin/R Trendy.buildbin-libdir StartedAt: 2024-04-15 10:50:39 -0400 (Mon, 15 Apr 2024) EndedAt: 2024-04-15 10:51:18 -0400 (Mon, 15 Apr 2024) EllapsedTime: 39.6 seconds RetCode: 0 Status: OK PackageFile: Trendy_1.24.1.tgz PackageFileSize: 768.3 KiB