Package: Trendy Version: 1.24.1 Command: /Library/Frameworks/R.framework/Resources/bin/R CMD build --keep-empty-dirs --no-resave-data Trendy StartedAt: 2024-04-17 04:19:50 -0400 (Wed, 17 Apr 2024) EndedAt: 2024-04-17 04:21:25 -0400 (Wed, 17 Apr 2024) EllapsedTime: 95.3 seconds RetCode: 0 Status: OK PackageFile: Trendy_1.24.1.tar.gz PackageFileSize: 1.086 MiB