Package: Trendy Version: 1.24.1 Command: /Library/Frameworks/R.framework/Resources/bin/R CMD INSTALL Trendy StartedAt: 2024-04-16 11:37:11 -0400 (Tue, 16 Apr 2024) EndedAt: 2024-04-16 11:37:42 -0400 (Tue, 16 Apr 2024) EllapsedTime: 31.3 seconds RetCode: 0 Status: OK