Package: UMI4Cats Version: 1.12.0 Command: rm -rf UMI4Cats.buildbin-libdir && mkdir UMI4Cats.buildbin-libdir && /Users/biocbuild/BBS/utils/build-universal.sh UMI4Cats_1.12.0.tar.gz /Library/Frameworks/R.framework/Resources/bin/R UMI4Cats.buildbin-libdir StartedAt: 2024-04-15 10:52:30 -0400 (Mon, 15 Apr 2024) EndedAt: 2024-04-15 10:53:37 -0400 (Mon, 15 Apr 2024) EllapsedTime: 66.6 seconds RetCode: 0 Status: OK PackageFile: UMI4Cats_1.12.0.tgz PackageFileSize: 3.307 MiB