Package: UMI4Cats Version: 1.12.0 Command: /Library/Frameworks/R.framework/Resources/bin/R CMD check --install=check:UMI4Cats.install-out.txt --library=/Library/Frameworks/R.framework/Resources/library --no-vignettes --timings UMI4Cats_1.12.0.tar.gz StartedAt: 2024-04-18 07:06:36 -0400 (Thu, 18 Apr 2024) EndedAt: 2024-04-18 07:14:09 -0400 (Thu, 18 Apr 2024) EllapsedTime: 453.3 seconds RetCode: 0 Status: OK CheckDir: UMI4Cats.Rcheck Warnings: 0