Package: VarCon Version: 1.10.0 Command: rm -rf VarCon.buildbin-libdir && mkdir VarCon.buildbin-libdir && /Users/biocbuild/BBS/utils/build-universal.sh VarCon_1.10.0.tar.gz /Library/Frameworks/R.framework/Resources/bin/R VarCon.buildbin-libdir StartedAt: 2024-04-15 10:53:37 -0400 (Mon, 15 Apr 2024) EndedAt: 2024-04-15 10:54:40 -0400 (Mon, 15 Apr 2024) EllapsedTime: 62.7 seconds RetCode: 0 Status: OK PackageFile: VarCon_1.10.0.tgz PackageFileSize: 2.017 MiB