Package: VariantTools
Version: 1.44.0
Command: /Library/Frameworks/R.framework/Resources/bin/R CMD build --keep-empty-dirs --no-resave-data VariantTools
StartedAt: 2024-04-17 04:37:32 -0400 (Wed, 17 Apr 2024)
EndedAt: 2024-04-17 04:39:12 -0400 (Wed, 17 Apr 2024)
EllapsedTime: 100.0 seconds
RetCode: 0
Status: OK
PackageFile: VariantTools_1.44.0.tar.gz
PackageFileSize: 5.968 <A href="http://en.wikipedia.org/wiki/MiB" target="_blank">MiB</A>