Package: affxparser Version: 1.74.0 Command: rm -rf affxparser.buildbin-libdir && mkdir affxparser.buildbin-libdir && /Users/biocbuild/BBS/utils/build-universal.sh affxparser_1.74.0.tar.gz /Library/Frameworks/R.framework/Resources/bin/R affxparser.buildbin-libdir StartedAt: 2024-04-18 08:07:43 -0400 (Thu, 18 Apr 2024) EndedAt: 2024-04-18 08:10:05 -0400 (Thu, 18 Apr 2024) EllapsedTime: 142.7 seconds RetCode: 0 Status: OK PackageFile: affxparser_1.74.0.tgz PackageFileSize: 1.572 MiB