Package: affxparser Version: 1.74.0 Command: /Library/Frameworks/R.framework/Resources/bin/R CMD check --install=check:affxparser.install-out.txt --library=/Library/Frameworks/R.framework/Resources/library --no-vignettes --timings affxparser_1.74.0.tar.gz StartedAt: 2024-04-17 05:08:19 -0400 (Wed, 17 Apr 2024) EndedAt: 2024-04-17 05:09:19 -0400 (Wed, 17 Apr 2024) EllapsedTime: 59.6 seconds RetCode: 0 Status: WARNINGS CheckDir: affxparser.Rcheck Warnings: 2