Package: aggregateBioVar Version: 1.12.0 Command: /Library/Frameworks/R.framework/Resources/bin/R CMD check --install=check:aggregateBioVar.install-out.txt --library=/Library/Frameworks/R.framework/Resources/library --no-vignettes --timings aggregateBioVar_1.12.0.tar.gz StartedAt: 2024-04-17 05:12:03 -0400 (Wed, 17 Apr 2024) EndedAt: 2024-04-17 05:15:33 -0400 (Wed, 17 Apr 2024) EllapsedTime: 209.3 seconds RetCode: 0 Status: OK CheckDir: aggregateBioVar.Rcheck Warnings: 0