Package: alabaster.mae Version: 1.2.0 Command: /Library/Frameworks/R.framework/Resources/bin/R CMD INSTALL alabaster.mae StartedAt: 2024-04-16 12:33:33 -0400 (Tue, 16 Apr 2024) EndedAt: 2024-04-16 12:34:06 -0400 (Tue, 16 Apr 2024) EllapsedTime: 32.7 seconds RetCode: 0 Status: OK