Package: alabaster.se Version: 1.2.0 Command: /Library/Frameworks/R.framework/Resources/bin/R CMD build --keep-empty-dirs --no-resave-data alabaster.se StartedAt: 2024-04-16 13:17:34 -0400 (Tue, 16 Apr 2024) EndedAt: 2024-04-16 13:18:16 -0400 (Tue, 16 Apr 2024) EllapsedTime: 42.5 seconds RetCode: 0 Status: OK PackageFile: alabaster.se_1.2.0.tar.gz PackageFileSize: 223.6 KiB