Package: alevinQC Version: 1.18.1 Command: rm -rf alevinQC.buildbin-libdir && mkdir alevinQC.buildbin-libdir && /Users/biocbuild/BBS/utils/build-universal.sh alevinQC_1.18.1.tar.gz /Library/Frameworks/R.framework/Resources/bin/R alevinQC.buildbin-libdir StartedAt: 2024-04-18 08:10:35 -0400 (Thu, 18 Apr 2024) EndedAt: 2024-04-18 08:11:02 -0400 (Thu, 18 Apr 2024) EllapsedTime: 27.6 seconds RetCode: 0 Status: OK PackageFile: alevinQC_1.18.1.tgz PackageFileSize: 8.005 MiB