Package: annotate
Version: 1.80.0
Command: /Library/Frameworks/R.framework/Resources/bin/R CMD INSTALL annotate
StartedAt: 2024-04-16 10:38:00 -0400 (Tue, 16 Apr 2024)
EndedAt: 2024-04-16 10:38:20 -0400 (Tue, 16 Apr 2024)
EllapsedTime: 20.1 seconds
RetCode: 0
Status: OK