Package: anota2seq Version: 1.24.0 Command: /Library/Frameworks/R.framework/Resources/bin/R CMD INSTALL anota2seq StartedAt: 2024-04-16 12:08:33 -0400 (Tue, 16 Apr 2024) EndedAt: 2024-04-16 12:09:10 -0400 (Tue, 16 Apr 2024) EllapsedTime: 37.3 seconds RetCode: 0 Status: OK