Package: appreci8R Version: 1.20.2 Maintainer: Sarah Sandmann MaintainerEmail: sarah.sandmann at uni-muenster.de git_url: https://git.bioconductor.org/packages/appreci8R git_branch: RELEASE_3_18 git_last_commit: 491a34d git_last_commit_date: 2024-02-14 07:29:50 -0400 (Wed, 14 Feb 2024)