Package: appreci8R Version: 1.20.2 Command: rm -rf appreci8R.buildbin-libdir && mkdir appreci8R.buildbin-libdir && /Users/biocbuild/BBS/utils/build-universal.sh appreci8R_1.20.2.tar.gz /Library/Frameworks/R.framework/Resources/bin/R appreci8R.buildbin-libdir StartedAt: 2024-04-18 08:13:27 -0400 (Thu, 18 Apr 2024) EndedAt: 2024-04-18 08:15:29 -0400 (Thu, 18 Apr 2024) EllapsedTime: 122.8 seconds RetCode: 0 Status: OK PackageFile: appreci8R_1.20.2.tgz PackageFileSize: 1.457 MiB