Package: appreci8R Version: 1.20.2 Command: /Library/Frameworks/R.framework/Resources/bin/R CMD INSTALL appreci8R StartedAt: 2024-04-16 13:06:13 -0400 (Tue, 16 Apr 2024) EndedAt: 2024-04-16 13:07:53 -0400 (Tue, 16 Apr 2024) EllapsedTime: 99.7 seconds RetCode: 0 Status: OK