Package: atSNP Version: 1.18.0 Command: rm -rf atSNP.buildbin-libdir && mkdir atSNP.buildbin-libdir && /Users/biocbuild/BBS/utils/build-universal.sh atSNP_1.18.0.tar.gz /Library/Frameworks/R.framework/Resources/bin/R atSNP.buildbin-libdir StartedAt: 2024-04-18 08:15:29 -0400 (Thu, 18 Apr 2024) EndedAt: 2024-04-18 08:17:04 -0400 (Thu, 18 Apr 2024) EllapsedTime: 94.3 seconds RetCode: 0 Status: OK PackageFile: atSNP_1.18.0.tgz PackageFileSize: 1.17 MiB