Package: atSNP Version: 1.18.0 Command: /Library/Frameworks/R.framework/Resources/bin/R CMD INSTALL atSNP StartedAt: 2024-04-16 11:46:22 -0400 (Tue, 16 Apr 2024) EndedAt: 2024-04-16 11:47:35 -0400 (Tue, 16 Apr 2024) EllapsedTime: 73.6 seconds RetCode: 0 Status: OK