Package: bamsignals Version: 1.34.0 Command: rm -rf bamsignals.buildbin-libdir && mkdir bamsignals.buildbin-libdir && /Users/biocbuild/BBS/utils/build-universal.sh bamsignals_1.34.0.tar.gz /Library/Frameworks/R.framework/Resources/bin/R bamsignals.buildbin-libdir StartedAt: 2024-04-18 08:16:47 -0400 (Thu, 18 Apr 2024) EndedAt: 2024-04-18 08:17:26 -0400 (Thu, 18 Apr 2024) EllapsedTime: 39.5 seconds RetCode: 0 Status: OK PackageFile: bamsignals_1.34.0.tgz PackageFileSize: 2.699 MiB