Package: bamsignals Version: 1.34.0 Command: /Library/Frameworks/R.framework/Resources/bin/R CMD check --install=check:bamsignals.install-out.txt --library=/Library/Frameworks/R.framework/Resources/library --no-vignettes --timings bamsignals_1.34.0.tar.gz StartedAt: 2024-04-17 06:15:28 -0400 (Wed, 17 Apr 2024) EndedAt: 2024-04-17 06:17:31 -0400 (Wed, 17 Apr 2024) EllapsedTime: 122.6 seconds RetCode: 0 Status: WARNINGS CheckDir: bamsignals.Rcheck Warnings: 1