Package: basilisk.utils Version: 1.14.1 Command: rm -rf basilisk.utils.buildbin-libdir && mkdir basilisk.utils.buildbin-libdir && /Users/biocbuild/BBS/utils/build-universal.sh basilisk.utils_1.14.1.tar.gz /Library/Frameworks/R.framework/Resources/bin/R basilisk.utils.buildbin-libdir StartedAt: 2024-04-18 08:18:50 -0400 (Thu, 18 Apr 2024) EndedAt: 2024-04-18 08:18:55 -0400 (Thu, 18 Apr 2024) EllapsedTime: 4.4 seconds RetCode: 0 Status: OK PackageFile: basilisk.utils_1.14.1.tgz PackageFileSize: 283.6 KiB