Package: basilisk.utils Version: 1.14.1 Command: /Library/Frameworks/R.framework/Resources/bin/R CMD build --keep-empty-dirs --no-resave-data basilisk.utils StartedAt: 2024-04-16 13:52:29 -0400 (Tue, 16 Apr 2024) EndedAt: 2024-04-16 13:52:35 -0400 (Tue, 16 Apr 2024) EllapsedTime: 5.6 seconds RetCode: 0 Status: OK PackageFile: basilisk.utils_1.14.1.tar.gz PackageFileSize: 234.5 KiB