Package: basilisk Version: 1.14.3 Command: rm -rf basilisk.buildbin-libdir && mkdir basilisk.buildbin-libdir && /Users/biocbuild/BBS/utils/build-universal.sh basilisk_1.14.3.tar.gz /Library/Frameworks/R.framework/Resources/bin/R basilisk.buildbin-libdir StartedAt: 2024-04-18 08:18:49 -0400 (Thu, 18 Apr 2024) EndedAt: 2024-04-18 08:19:02 -0400 (Thu, 18 Apr 2024) EllapsedTime: 12.4 seconds RetCode: 0 Status: OK PackageFile: basilisk_1.14.3.tgz PackageFileSize: 304.5 KiB