Package: biodbHmdb Version: 1.8.0 Command: /Library/Frameworks/R.framework/Resources/bin/R CMD check --install=check:biodbHmdb.install-out.txt --library=/Library/Frameworks/R.framework/Resources/library --no-vignettes --timings biodbHmdb_1.8.0.tar.gz StartedAt: 2024-04-17 07:10:12 -0400 (Wed, 17 Apr 2024) EndedAt: 2024-04-17 07:11:05 -0400 (Wed, 17 Apr 2024) EllapsedTime: 53.0 seconds RetCode: 0 Status: WARNINGS CheckDir: biodbHmdb.Rcheck Warnings: 1