Package: biodbHmdb Version: 1.8.0 Command: /Library/Frameworks/R.framework/Resources/bin/R CMD INSTALL biodbHmdb StartedAt: 2024-04-16 11:50:49 -0400 (Tue, 16 Apr 2024) EndedAt: 2024-04-16 11:51:33 -0400 (Tue, 16 Apr 2024) EllapsedTime: 43.1 seconds RetCode: 0 Status: OK